BEGIN:VCALENDAR
PRODID:-//github.com/rianjs/ical.net//NONSGML ical.net 4.0//EN
VERSION:2.0
BEGIN:VEVENT
DESCRIPTION:Sternfahrt - Unterallgäuer Radlertag immer am 15. August (ca. 
 500 Radler)\, 13.30 Uhr Andacht mit Segnung der Fahrer und Fahrräder\n An
 meldung bis Di 12.08.2026.\nhttps://touren-termine.adfc.de/radveranstaltu
 ng/174400-nach-maria-baumgartle-zur-fahrradsegnung
DTEND;VALUE=DATE:20260815
DTSTAMP:20260425T184344Z
DTSTART;VALUE=DATE:20260815
LOCATION:Ottobeuren\, genauer Treffpunkt und Zeit wird noch mitgeteilt\, 8
 7724 Ottobeuren
SEQUENCE:0
SUMMARY:Nach Maria Baumgärtle zur Fahrradsegnung
UID:1b41d1c7-5c2d-4f4b-b006-5022265520f6
URL:https://touren-termine.adfc.de/radveranstaltung/174400-nach-maria-baum
 gartle-zur-fahrradsegnung
END:VEVENT
END:VCALENDAR
