BEGIN:VCALENDAR
PRODID:-//github.com/rianjs/ical.net//NONSGML ical.net 4.0//EN
VERSION:2.0
BEGIN:VEVENT
DESCRIPTION:Radfahrer*innen treffen sich anscheinend zufällig und unorgani
 siert.\nhttps://touren-termine.adfc.de/radveranstaltung/172901-critical-m
 ass-hamburg
DTEND:20251031T210000Z
DTSTAMP:20260420T231013Z
DTSTART:20251031T180000Z
LOCATION:Linnering 1\, 22299 Hamburg
SEQUENCE:0
SUMMARY:Critical Mass Hamburg
UID:07aeaccf-0b8d-4089-9dc9-c5990d1edcdf
URL:https://touren-termine.adfc.de/radveranstaltung/172901-critical-mass-h
 amburg
END:VEVENT
END:VCALENDAR
