BEGIN:VCALENDAR
PRODID:-//github.com/rianjs/ical.net//NONSGML ical.net 4.0//EN
VERSION:2.0
BEGIN:VEVENT
DESCRIPTION:Von Vaihingen durch den Schönbuch und über Herrenberg nach Wei
 l der Stadt\nhttps://touren-termine.adfc.de/radveranstaltung/138754-von-v
 aihingen-nach-weil-der-stadt
DTEND:20241005T150000Z
DTSTAMP:20260424T144612Z
DTSTART:20241005T073000Z
LOCATION:Bahnhof Vaihingen 1\, 70563 Stuttgart
SEQUENCE:0
SUMMARY:Von Vaihingen nach  Weil der Stadt
UID:de14ed57-fbcd-4067-80cc-479118b0fe4d
URL:https://touren-termine.adfc.de/radveranstaltung/138754-von-vaihingen-n
 ach-weil-der-stadt
END:VEVENT
END:VCALENDAR
