BEGIN:VCALENDAR
PRODID:-//github.com/rianjs/ical.net//NONSGML ical.net 4.0//EN
VERSION:2.0
BEGIN:VEVENT
DESCRIPTION:Wir treffen uns jeden 1. Donnerstag eines Monats (außer August
 ) um 19:00 Uhr im Gasthaus Belfort in Kaufbeuren\, Mindelheimer Str. 35. 
 Fahrrad-Codierung möglich.\nhttps://touren-termine.adfc.de/radveranstaltu
 ng/145078-adfcstammtisch
DTEND:20251106T200000Z
DTSTAMP:20260419T155800Z
DTSTART:20251106T180000Z
LOCATION:Gasthaus Belfort\, Mindelheimer Straße 35\, 87600 Kaufbeuren
SEQUENCE:0
SUMMARY:ADFC-Stammtisch
UID:d53b9779-847a-42e6-a778-80d04ae30a97
URL:https://touren-termine.adfc.de/radveranstaltung/145078-adfcstammtisch
END:VEVENT
END:VCALENDAR
