BEGIN:VCALENDAR
PRODID:-//github.com/rianjs/ical.net//NONSGML ical.net 4.0//EN
VERSION:2.0
BEGIN:VEVENT
DESCRIPTION:Radlertreff in entspannter Atmosphäre\nhttps://touren-termine.
 adfc.de/radveranstaltung/95410-afterwork
DTEND:20240320T210000Z
DTSTAMP:20260424T144945Z
DTSTART:20240320T173000Z
LOCATION:Silberburgstraße 84\, 70176 Stuttgart
SEQUENCE:0
SUMMARY:AfterWork
UID:62ff0ad0-e9cf-4f7f-ac0b-62d6fc35119c
URL:https://touren-termine.adfc.de/radveranstaltung/95410-afterwork
END:VEVENT
END:VCALENDAR
