BEGIN:VCALENDAR
PRODID:-//github.com/rianjs/ical.net//NONSGML ical.net 4.0//EN
VERSION:2.0
BEGIN:VEVENT
DESCRIPTION:FMK-16_km_Bahlsen-Jagdhaus\nhttps://touren-termine.adfc.de/rad
 veranstaltung/172536-familiemitkinderntour
DTEND:20250928T150000Z
DTSTAMP:20260423T105338Z
DTSTART:20250928T130000Z
LOCATION:Fuhrberger Straße\, 30938 Burgwedel
SEQUENCE:0
SUMMARY:Familie_mit_Kindern-Tour
UID:129979cd-ca7b-4892-859a-ce47cd254129
URL:https://touren-termine.adfc.de/radveranstaltung/172536-familiemitkinde
 rntour
END:VEVENT
END:VCALENDAR
