BEGIN:VCALENDAR
PRODID:-//github.com/rianjs/ical.net//NONSGML ical.net 4.0//EN
VERSION:2.0
BEGIN:VEVENT
DESCRIPTION:Von der Quelle der östlichen Günz zum Zusammenfluss mit der we
 stlichen Günz bei Egg a d Günz u. zur.       Startzeit bei Anmeldung. Anm
 eldung bis 18.09.2024\nhttps://touren-termine.adfc.de/radveranstaltung/11
 5522-ab-gunzach-die-junge-gunz
DTEND;VALUE=DATE:20240921
DTSTAMP:20260425T185133Z
DTSTART;VALUE=DATE:20240921
LOCATION:Bahnhof Günzach\, 87634 Landkreis Ostallgäu
SEQUENCE:0
SUMMARY:Ab Günzach: Die Junge Günz
UID:adf97b8d-4399-4ec8-8368-7680014aa233
URL:https://touren-termine.adfc.de/radveranstaltung/115522-ab-gunzach-die-
 junge-gunz
END:VEVENT
END:VCALENDAR
