BEGIN:VCALENDAR
PRODID:-//github.com/rianjs/ical.net//NONSGML ical.net 4.0//EN
VERSION:2.0
BEGIN:VEVENT
DESCRIPTION:Zubringertour aus Kempen zur ADFC-Jubiläumsfeier\, Joseph-Beuy
 s-Platz in Krefeld.\nZweiter Einstiegspunkt 14:25 Uhr Hüls\n15.00 Demofah
 rt für bessere Radwege \nFeiern mit Live-Musik\, Rückfahrt individuell\nh
 ttps://touren-termine.adfc.de/radveranstaltung/172224-radtour-40-jahre-ad
 fc-krefeldkreis-viersen
DTEND:20250927T133000Z
DTSTAMP:20260421T103217Z
DTSTART:20250927T120000Z
LOCATION:Parkplatz Burg\, Thomasstraße\, 47906 Kempen
SEQUENCE:0
SUMMARY:Radtour 40 Jahre ADFC Krefeld-Kreis Viersen
UID:acc59002-c86c-4c5f-a6e5-02478942e7a9
URL:https://touren-termine.adfc.de/radveranstaltung/172224-radtour-40-jahr
 e-adfc-krefeldkreis-viersen
END:VEVENT
END:VCALENDAR
