BEGIN:VCALENDAR
PRODID:-//github.com/rianjs/ical.net//NONSGML ical.net 4.0//EN
VERSION:2.0
BEGIN:VEVENT
DESCRIPTION:Sportliche Tagestour für Teilnehmer*innen mit guter Kondition\
 , die gerne längere Strecken bewältigen von ca. 60 -70 km.\nMax. 25 Teiln
 ehmer\, Anmeldung erforderlich!\nhttps://touren-termine.adfc.de/radverans
 taltung/107614-mittwochserlebnistour-leverkusen
DTEND:20241113T150000Z
DTSTAMP:20260421T121444Z
DTSTART:20241113T090000Z
LOCATION:Lindenplatz (Schlebusch)\, 51375 Leverkusen
SEQUENCE:0
SUMMARY:Mittwochserlebnistour Leverkusen
UID:1d60b3ac-01b8-46a0-98eb-8a7f791e9c22
URL:https://touren-termine.adfc.de/radveranstaltung/107614-mittwochserlebn
 istour-leverkusen
END:VEVENT
END:VCALENDAR
