BEGIN:VCALENDAR
PRODID:-//github.com/rianjs/ical.net//NONSGML ical.net 4.0//EN
VERSION:2.0
BEGIN:VEVENT
DESCRIPTION:Eine sanft hügelige Allgäu‑Runde\, die von Kempten aus durch r
 uhige Dörfer zum naturbelassenen Elbsee und wieder zurück führt.\nhttps:/
 /touren-termine.adfc.de/radveranstaltung/191255-durch-die-allgauer-hugel-
 zum-elbsee
DTEND:20260627T150000Z
DTSTAMP:20260424T151809Z
DTSTART:20260627T080000Z
LOCATION:Ignaz-Kiechle-Straße\, 87437 Kempten (Allgäu)
SEQUENCE:0
SUMMARY:Durch die Allgäuer Hügel zum Elbsee
UID:fe0d2fbc-c9a0-4538-af09-28cc72dc5cf2
URL:https://touren-termine.adfc.de/radveranstaltung/191255-durch-die-allga
 uer-hugel-zum-elbsee
END:VEVENT
END:VCALENDAR
