BEGIN:VCALENDAR
PRODID:-//github.com/rianjs/ical.net//NONSGML ical.net 4.0//EN
VERSION:2.0
BEGIN:VEVENT
DESCRIPTION:Als Alltagsradlerin allein vom Landkreis München nach Flensbur
 g - getreu dem Motto "Einfach losfahren und schauen\, ob es geht". (Neuer
  Termin)\nhttps://touren-termine.adfc.de/radveranstaltung/187961-vortrag-
 allein-per-rad-quer-durch-deutschland
DTEND:20260312T200000Z
DTSTAMP:20260420T084435Z
DTSTART:20260312T183000Z
LOCATION:Rathausplatz\, 85579 Neubiberg
SEQUENCE:0
SUMMARY:Vortrag: Allein per Rad quer durch Deutschland
UID:3749b5d3-64c4-458c-8f6d-539b96ef1eb1
URL:https://touren-termine.adfc.de/radveranstaltung/187961-vortrag-allein-
 per-rad-quer-durch-deutschland
END:VEVENT
END:VCALENDAR
