BEGIN:VCALENDAR
PRODID:-//github.com/rianjs/ical.net//NONSGML ical.net 4.0//EN
VERSION:2.0
BEGIN:VEVENT
DESCRIPTION:Göttingen - Bovenden (Informationen zu einem historisches Gebä
 ude) - Angerstein (Aufenthalt in einem beliebten Ausflugslokal) - Bovende
 n (archäologischer Fund) - Göttingen\nhttps://touren-termine.adfc.de/radv
 eranstaltung/158573-spazierfahrt-nach-angerstein
DTEND:20250803T140000Z
DTSTAMP:20260422T083542Z
DTSTART:20250803T090000Z
LOCATION:ADFC-Werkstatt\, Güterbahnhofstraße 9\, 37073 Göttingen
SEQUENCE:0
SUMMARY:Spazierfahrt nach Angerstein
UID:4546270b-c953-47d1-ad2f-8486813ad18c
URL:https://touren-termine.adfc.de/radveranstaltung/158573-spazierfahrt-na
 ch-angerstein
END:VEVENT
END:VCALENDAR
