BEGIN:VCALENDAR
PRODID:-//github.com/rianjs/ical.net//NONSGML ical.net 4.0//EN
VERSION:2.0
BEGIN:VEVENT
DESCRIPTION:Rauf aufs Rad für eine Spritztour in die Umgebung von Gauting!
 \nWöchentlich wechselnd naturkundliche Touren und Cappuccino-Touren.\nHeu
 te: Zum Biergarten in Leutstetten\nhttps://touren-termine.adfc.de/radvera
 nstaltung/137804-wochentliche-nachmittagstour-in-gauting
DTEND:20240813T120000Z
DTSTAMP:20260425T150452Z
DTSTART:20240813T120000Z
LOCATION:Rathaus\, Bahnhofstraße 7\, 82131 Gauting
SEQUENCE:0
SUMMARY:Wöchentliche Nachmittagstour in Gauting
UID:89a4bfbe-81a3-4752-805f-33fbc3f46c19
URL:https://touren-termine.adfc.de/radveranstaltung/137804-wochentliche-na
 chmittagstour-in-gauting
END:VEVENT
END:VCALENDAR
