BEGIN:VCALENDAR
PRODID:-//github.com/rianjs/ical.net//NONSGML ical.net 4.0//EN
VERSION:2.0
BEGIN:VEVENT
DESCRIPTION:Radfahrer*innen treffen sich anscheinend zufällig und unorgani
 siert.\nhttps://touren-termine.adfc.de/radveranstaltung/189940-critical-m
 ass-hamburg
DTEND:20260227T210000Z
DTSTAMP:20260420T230902Z
DTSTART:20260227T180000Z
LOCATION:Leo-Leistikow-Allee / Teressa-Platz\, 22081 Hamburg
SEQUENCE:0
SUMMARY:Critical Mass Hamburg
UID:396a76d5-28a2-4063-86ae-87505da55d73
URL:https://touren-termine.adfc.de/radveranstaltung/189940-critical-mass-h
 amburg
END:VEVENT
END:VCALENDAR
