BEGIN:VCALENDAR
PRODID:-//github.com/rianjs/ical.net//NONSGML ical.net 4.0//EN
VERSION:2.0
BEGIN:VEVENT
DESCRIPTION:Du lebst in Schöneberg und möchtest dich für einen fahrrad-\, 
 menschen- und klimafreundlichen Bezirk einsetzen? Du bist herzlich eingel
 aden. Komm einfach dazu!\nhttps://touren-termine.adfc.de/radveranstaltung
 /142532-treffen-der-stadtteilgruppe-schoneberg
DTEND:20250707T190000Z
DTSTAMP:20260424T020331Z
DTSTART:20250707T170000Z
LOCATION:Raum für Beteiligung\, Dominicusstraße 11\, 10823 Berlin
SEQUENCE:0
SUMMARY:Treffen der Stadtteilgruppe Schöneberg
UID:196512c3-b251-4593-ac3e-9cbbe291d561
URL:https://touren-termine.adfc.de/radveranstaltung/142532-treffen-der-sta
 dtteilgruppe-schoneberg
END:VEVENT
END:VCALENDAR
