BEGIN:VCALENDAR
PRODID:-//github.com/rianjs/ical.net//NONSGML ical.net 4.0//EN
VERSION:2.0
BEGIN:VEVENT
DESCRIPTION:eine Woche mit dem Rad durch NRW\, auf Achse für Frieden und A
 brüstung\, eine ausgewogene Mischung zwischen Politik\, Verkehrswende und
  Freizeit\, Gedanken und Ideen auszutauschen\, Urlaub zu genießen.\nhttps
 ://touren-termine.adfc.de/radveranstaltung/97377-friedensfahrradtour-2023
 -der-dfgvk-nrw
DTEND:20230806T110000Z
DTSTAMP:20260424T152609Z
DTSTART:20230729T080000Z
LOCATION:Markt\, 33098 Paderborn
SEQUENCE:0
SUMMARY:Friedensfahrradtour 2023 der DFG-VK NRW
UID:8c5822c7-4f20-477b-93e5-c8d8c3c79a48
URL:https://touren-termine.adfc.de/radveranstaltung/97377-friedensfahrradt
 our-2023-der-dfgvk-nrw
END:VEVENT
END:VCALENDAR
