BEGIN:VCALENDAR
PRODID:-//github.com/rianjs/ical.net//NONSGML ical.net 4.0//EN
VERSION:2.0
BEGIN:VEVENT
DESCRIPTION:Dienstags & Donnerstags zwischen 18:00 und 20:00 Uhr kann dort
  jeder\, sein Fahrrad eigenverantwortlich selbst reparieren - wenn nötig 
 unter Anleitung oder Mithilfe unsere Werkstattteams\nhttps://touren-termi
 ne.adfc.de/radveranstaltung/175963-selbsthilfewerkstatt-ist-geoffnet
DTEND:20260409T180000Z
DTSTAMP:20260424T150530Z
DTSTART:20260409T160000Z
LOCATION:Weinweg 2\, 93049 Regensburg
SEQUENCE:0
SUMMARY:Selbsthilfewerkstatt ist geöffnet
UID:f6e28fc8-5902-4b90-bb1a-0cde35266f24
URL:https://touren-termine.adfc.de/radveranstaltung/175963-selbsthilfewerk
 statt-ist-geoffnet
END:VEVENT
END:VCALENDAR
