BEGIN:VCALENDAR
PRODID:-//github.com/rianjs/ical.net//NONSGML ical.net 4.0//EN
VERSION:2.0
BEGIN:VEVENT
DESCRIPTION:Dienstags & Donnerstags zwischen 18:00 und 20:00 Uhr kann dort
  jeder\, sein Fahrrad eigenverantwortlich selbst reparieren - wenn nötig 
 unter Anleitung oder Mithilfe unsere Werkstattteams\nhttps://touren-termi
 ne.adfc.de/radveranstaltung/175978-selbsthilfewerkstatt-ist-geoffnet
DTEND:20260602T180000Z
DTSTAMP:20260424T151209Z
DTSTART:20260602T160000Z
LOCATION:Weinweg 2\, 93049 Regensburg
SEQUENCE:0
SUMMARY:Selbsthilfewerkstatt ist geöffnet
UID:099e0725-d319-4189-a21b-1bd127b63a8f
URL:https://touren-termine.adfc.de/radveranstaltung/175978-selbsthilfewerk
 statt-ist-geoffnet
END:VEVENT
END:VCALENDAR
