BEGIN:VCALENDAR
PRODID:-//github.com/rianjs/ical.net//NONSGML ical.net 4.0//EN
VERSION:2.0
BEGIN:VEVENT
DESCRIPTION:Wir zeigen Euch heute den Film "Cycling Cities" von Ingwar Per
 owanowitsch. Der Film dauert 90 Minuten und ist mit der Diskussion um die
  Veloroute 2 aktueller denn je.\nhttps://touren-termine.adfc.de/radverans
 taltung/190539-was-wir-von-europas-fahrradstadten-lernen-konnen
DTEND:20260418T151500Z
DTSTAMP:20260421T172908Z
DTSTART:20260418T120000Z
LOCATION:Cobra Solingen\, 42699 Solingen
SEQUENCE:0
SUMMARY:Was wir von Europas Fahrradstädten lernen können
UID:8ff54d51-43bf-49e5-977b-8380588fc43a
URL:https://touren-termine.adfc.de/radveranstaltung/190539-was-wir-von-eur
 opas-fahrradstadten-lernen-konnen
END:VEVENT
END:VCALENDAR
