BEGIN:VCALENDAR
PRODID:-//github.com/rianjs/ical.net//NONSGML ical.net 4.0//EN
VERSION:2.0
BEGIN:VEVENT
DESCRIPTION:30 km lange Rundtour in die Umgebung von Oranienburg\nhttps://
 touren-termine.adfc.de/radveranstaltung/171500-feierabendtour
DTEND:20250910T180000Z
DTSTAMP:20260425T232028Z
DTSTART:20250910T150000Z
LOCATION:Bahnhof\, 16515 Oranienburg
SEQUENCE:0
SUMMARY:Feierabendtour
UID:2f6d1113-df57-456c-977c-d9349f0e750f
URL:https://touren-termine.adfc.de/radveranstaltung/171500-feierabendtour
END:VEVENT
END:VCALENDAR
