BEGIN:VCALENDAR
PRODID:-//github.com/rianjs/ical.net//NONSGML ical.net 4.0//EN
VERSION:2.0
BEGIN:VEVENT
DESCRIPTION:Feierabendtouren in die nähere Umgebung\, Distanz 20 - 30 km\,
  oft mit Einkehr.\nhttps://touren-termine.adfc.de/radveranstaltung/116326
 -gilchinger-feierabendtour
DTEND:20240517T180000Z
DTSTAMP:20260425T150057Z
DTSTART:20240517T150000Z
LOCATION:Marktplatz\, 82205 Gilching
SEQUENCE:0
SUMMARY:Gilchinger Feierabendtour
UID:d49a256b-980f-46cd-ad9f-0a5a43a5bb79
URL:https://touren-termine.adfc.de/radveranstaltung/116326-gilchinger-feie
 rabendtour
END:VEVENT
END:VCALENDAR
