BEGIN:VCALENDAR
PRODID:-//github.com/rianjs/ical.net//NONSGML ical.net 4.0//EN
VERSION:2.0
BEGIN:VEVENT
DESCRIPTION:Geänderte Tour\, siehe Text! Diese also nicht: Schöne Radtour 
 (2 x 23 km) zu einem tollen Fest. - Mehr Infos zu diesem "Dorffest" siehe
  Link "weitere Infos".\nhttps://touren-termine.adfc.de/radveranstaltung/1
 50269-geandert-s-text-800-j-dorffest-schloss-ri-
DTEND:20250622T163000Z
DTSTAMP:20260424T173051Z
DTSTART:20250622T103000Z
LOCATION:Zwischen Post und Rathaus\, Marktplatz 1\, 30853 Langenhagen
SEQUENCE:0
SUMMARY:Geändert\, s. Text! "800 J. Dorffest Schloss Ri" ⓇⓈ
UID:5cc49eca-7ce8-44fa-ab83-6ba0214604c1
URL:https://touren-termine.adfc.de/radveranstaltung/150269-geandert-s-text
 -800-j-dorffest-schloss-ri-
END:VEVENT
END:VCALENDAR
