BEGIN:VCALENDAR
PRODID:-//github.com/rianjs/ical.net//NONSGML ical.net 4.0//EN
VERSION:2.0
BEGIN:VEVENT
DESCRIPTION:Das International Cycling Film Festival auch Internationales F
 estival des Fahrrad-Films\, ist ein Festival für Kurzfilme\, die das Fahr
 rad zum Thema oder als wichtiges Sujet haben.\nhttps://touren-termine.adf
 c.de/radveranstaltung/191758-international-cycling-film-festival
DTEND:20260321T220000Z
DTSTAMP:20260420T150448Z
DTSTART:20260319T180000Z
LOCATION:Straße des Bohrhammers 5\, 44625 Herne
SEQUENCE:0
SUMMARY:International Cycling Film Festival
UID:ffd1992c-d0a0-4b81-a29d-f8b2102fa1f3
URL:https://touren-termine.adfc.de/radveranstaltung/191758-international-c
 ycling-film-festival
END:VEVENT
END:VCALENDAR
