BEGIN:VCALENDAR
PRODID:-//github.com/rianjs/ical.net//NONSGML ical.net 4.0//EN
VERSION:2.0
BEGIN:VEVENT
DESCRIPTION:Die Stadt Uelzen und die Samtgemeinde Bevensen-Ebstorf sowie d
 er Landkreis Uelzen veranstalten vom 24. August bis 13 September 2024 das
  STADTRADELN. Fahrt KILOMETER für das Klima und den ADFC!!!\nhttps://tour
 en-termine.adfc.de/radveranstaltung/135257-stadtradeln-uelzen-sg-bevensen
 ebstorf-lk-uelzen
DTEND:20240913T215500Z
DTSTAMP:20260424T160437Z
DTSTART:20240823T220000Z
LOCATION:Herzogenplatz\, 29525 Uelzen
SEQUENCE:0
SUMMARY:STADTRADELN Uelzen\, SG Bevensen-Ebstorf\, Lk Uelzen
UID:e8292975-96d3-4869-9067-cecf633f90d1
URL:https://touren-termine.adfc.de/radveranstaltung/135257-stadtradeln-uel
 zen-sg-bevensenebstorf-lk-uelzen
END:VEVENT
END:VCALENDAR
