BEGIN:VCALENDAR
PRODID:-//github.com/rianjs/ical.net//NONSGML ical.net 4.0//EN
VERSION:2.0
BEGIN:VEVENT
DESCRIPTION:von 1940 - 1954 existierte in Neugablonz\, dem damaligen Kaufb
 euren-Hart ein Eisenbahnnetz\, das der Erschließung der Munitionsfabrik d
 er Dynamit AG diente. keine Anmeldung und kostenlos.\nhttps://touren-term
 ine.adfc.de/radveranstaltung/133539-neugablonz-auf-den-spuren-der-eisenba
 hn
DTEND:20240726T163000Z
DTSTAMP:20260419T155800Z
DTSTART:20240726T140000Z
LOCATION:Bahnhofstraße 9\, 87668 Landkreis Ostallgäu
SEQUENCE:0
SUMMARY:Neugablonz: Auf den Spuren der Eisenbahn
UID:6f3e8622-c70a-4873-af61-cb835f73aab9
URL:https://touren-termine.adfc.de/radveranstaltung/133539-neugablonz-auf-
 den-spuren-der-eisenbahn
END:VEVENT
END:VCALENDAR
