BEGIN:VCALENDAR
PRODID:-//github.com/rianjs/ical.net//NONSGML ical.net 4.0//EN
VERSION:2.0
BEGIN:VEVENT
DESCRIPTION:Von Jagstzell aus führt die tour in einem großen Bogen gegen d
 en Uhrzeigersinn nach Crailsheim und von dort auf der anderen Seite der J
 agst zurück.\nhttps://touren-termine.adfc.de/radveranstaltung/105769-rund
 kurs-von-jagstzell
DTEND:20230910T160000Z
DTSTAMP:20260424T144418Z
DTSTART:20230910T061500Z
LOCATION:Kegelenstraße 12\, 70372 Stuttgart
SEQUENCE:0
SUMMARY:Rundkurs von Jagstzell
UID:0557e237-1e7c-403d-849f-5c563d2f7cea
URL:https://touren-termine.adfc.de/radveranstaltung/105769-rundkurs-von-ja
 gstzell
END:VEVENT
END:VCALENDAR
