BEGIN:VCALENDAR
PRODID:-//github.com/rianjs/ical.net//NONSGML ical.net 4.0//EN
VERSION:2.0
BEGIN:VEVENT
DESCRIPTION:Eine schöne Tour durch den Mainhardter Wald und dann über Schw
 äbisch Hall nach Hessental\nhttps://touren-termine.adfc.de/radveranstaltu
 ng/129600-backnang-waldenburg-hessental
DTEND:20240522T150000Z
DTSTAMP:20260424T143559Z
DTSTART:20240522T070000Z
LOCATION:Kegelenstraße 12\, 70372 Stuttgart
SEQUENCE:0
SUMMARY:Backnang - Waldenburg - Hessental
UID:52806a82-f4b1-4f07-bfc8-a98b18eceb6b
URL:https://touren-termine.adfc.de/radveranstaltung/129600-backnang-walden
 burg-hessental
END:VEVENT
END:VCALENDAR
