BEGIN:VCALENDAR
PRODID:-//github.com/rianjs/ical.net//NONSGML ical.net 4.0//EN
VERSION:2.0
BEGIN:VEVENT
DESCRIPTION:Wir radeln von Stadthagen über Bückeburg zum Regio-Port am Mit
 tellandkanal in Minden. Danach geht es weiter über Frille\, Lahde und Ils
 erheide nach Wiedensahl zum Busch – Café.\nhttps://touren-termine.adfc.de
 /radveranstaltung/144111-herbstlandschaft-in-schaumburg
DTEND:20251019T150000Z
DTSTAMP:20260420T174157Z
DTSTART:20251019T080000Z
LOCATION:Marktplatz \,Marktbrunnen\, 31655 Stadthagen
SEQUENCE:0
SUMMARY:Herbstlandschaft in Schaumburg
UID:331b389a-81f2-438f-9af4-d2856da9893d
URL:https://touren-termine.adfc.de/radveranstaltung/144111-herbstlandschaf
 t-in-schaumburg
END:VEVENT
END:VCALENDAR
