BEGIN:VCALENDAR
PRODID:-//github.com/rianjs/ical.net//NONSGML ical.net 4.0//EN
VERSION:2.0
BEGIN:VEVENT
DESCRIPTION:Wir fahren mit der Bahn nach SZ-Ringelheim - dort fahren wir e
 inen Rundkurs - und zum Schluss wieder mit der Bahn nach Braunschweig zur
 ück\nhttps://touren-termine.adfc.de/radveranstaltung/191897-rundkurs-ring
 elheim
DTEND:20260628T115000Z
DTSTAMP:20260423T015126Z
DTSTART:20260628T073000Z
LOCATION:Bahnhofsvorplatz 13\, 38102 Braunschweig
SEQUENCE:0
SUMMARY:Rundkurs Ringelheim
UID:42fad830-6891-4dfa-bddd-be8a5f3f0f74
URL:https://touren-termine.adfc.de/radveranstaltung/191897-rundkurs-ringel
 heim
END:VEVENT
END:VCALENDAR
