BEGIN:VCALENDAR
PRODID:-//github.com/rianjs/ical.net//NONSGML ical.net 4.0//EN
VERSION:2.0
BEGIN:VEVENT
DESCRIPTION:Rinteln - Bückeburg\nhttps://touren-termine.adfc.de/radveranst
 altung/173755-rinteln-buckeburg
DTEND:20260322T160000Z
DTSTAMP:20260422T203107Z
DTSTART:20260322T100000Z
LOCATION:Glacisbrücke\, 32423 Minden
SEQUENCE:0
SUMMARY:Rinteln - Bückeburg
UID:ee0cc83e-7d7a-4ded-b47b-43bee38af1ef
URL:https://touren-termine.adfc.de/radveranstaltung/173755-rinteln-buckebu
 rg
END:VEVENT
END:VCALENDAR
