BEGIN:VCALENDAR
PRODID:-//github.com/rianjs/ical.net//NONSGML ical.net 4.0//EN
VERSION:2.0
BEGIN:VEVENT
DESCRIPTION:Mit zahlreichen Kunst- u. Kulturschaffenden\, Vereinen\, Parte
 ien und Ehrenamtlichen \nEine Veranstaltung der Marktoberdorfer Arbeitsge
 meinschaft "Demokratie Leben"\nhttps://touren-termine.adfc.de/radveransta
 ltung/139455-fest-der-demokratie-in-marktoberdorf
DTEND:20241003T170000Z
DTSTAMP:20260419T160006Z
DTSTART:20241003T120000Z
LOCATION:Rathausplatz\, Richard-Wengenmeier-Platz 1\, Marktoberdorf\, 8761
 6 Marktoberdorf
SEQUENCE:0
SUMMARY:Fest der Demokratie in Marktoberdorf
UID:18ff59e2-63d3-4ac4-9306-a3ee213d3714
URL:https://touren-termine.adfc.de/radveranstaltung/139455-fest-der-demokr
 atie-in-marktoberdorf
END:VEVENT
END:VCALENDAR
