BEGIN:VCALENDAR
PRODID:-//github.com/rianjs/ical.net//NONSGML ical.net 4.0//EN
VERSION:2.0
BEGIN:VEVENT
DESCRIPTION:Über Deutenhausen und Etting nach Polling. Von dort zurück nac
 h Weilheim\nhttps://touren-termine.adfc.de/radveranstaltung/160095-feiera
 bendtour
DTEND:20250418T170000Z
DTSTAMP:20260421T101108Z
DTSTART:20250418T140000Z
LOCATION:Marienplatz\, 82362 Weilheim
SEQUENCE:0
SUMMARY:Feierabendtour
UID:a6807763-0afd-4f5b-b62a-4209b1b0bd5e
URL:https://touren-termine.adfc.de/radveranstaltung/160095-feierabendtour
END:VEVENT
END:VCALENDAR
