BEGIN:VCALENDAR
PRODID:-//github.com/rianjs/ical.net//NONSGML ical.net 4.0//EN
VERSION:2.0
BEGIN:VEVENT
DESCRIPTION:Fahrrad-Demo: „Radweg Ollenhauerstraße sofort öffnen! Radweg R
 oedernallee sofort anordnen!“ Mehr Verkehrssicherheit für Radfahrer:innen
 !\nStart und Ziel: S+U Karl-Bonhoeffer-Nervenklinik\, 13437 Berlin\nhttps
 ://touren-termine.adfc.de/radveranstaltung/105563-fahrraddemo-ollenhauers
 trasse-offnen
DTEND:20230814T163000Z
DTSTAMP:20260421T233313Z
DTSTART:20230814T150000Z
LOCATION:Oranienburger Straße\, 13437 Berlin
SEQUENCE:0
SUMMARY:Fahrraddemo: Ollenhauerstraße öffnen
UID:bbd072c9-fb49-43ae-8fd8-93015c549fd8
URL:https://touren-termine.adfc.de/radveranstaltung/105563-fahrraddemo-oll
 enhauerstrasse-offnen
END:VEVENT
END:VCALENDAR
