BEGIN:VCALENDAR
PRODID:-//github.com/rianjs/ical.net//NONSGML ical.net 4.0//EN
VERSION:2.0
BEGIN:VEVENT
DESCRIPTION:Am 9. März überfuhr ein Autofahrer Mutter und Kind auf der Lei
 pziger Straße\, beide starben im Krankenhaus. Mit einer stillen Mahnwache
  gedenken wir zwei Wochen später\, der im Straßenverkehr Getöteten.\nhttp
 s://touren-termine.adfc.de/radveranstaltung/128880-stille-mahnwache
DTEND:20240323T110000Z
DTSTAMP:20260422T030631Z
DTSTART:20240323T100000Z
LOCATION:Leipziger Straße 130\, 10117 Berlin
SEQUENCE:0
SUMMARY:Stille Mahnwache
UID:82e08eca-bd61-439d-8a26-c10238a93bfd
URL:https://touren-termine.adfc.de/radveranstaltung/128880-stille-mahnwache
END:VEVENT
END:VCALENDAR
