BEGIN:VCALENDAR
PRODID:-//github.com/rianjs/ical.net//NONSGML ical.net 4.0//EN
VERSION:2.0
BEGIN:VEVENT
DESCRIPTION:Jeden Montag findet morgens eine Radtour statt.\nhttps://toure
 n-termine.adfc.de/radveranstaltung/158189-montag-morgen-tour
DTEND:20250407T100000Z
DTSTAMP:20260423T200936Z
DTSTART:20250407T080000Z
LOCATION:In der Ahe 29\, 27356 Rotenburg
SEQUENCE:0
SUMMARY:Montag Morgen Tour
UID:20bb40fe-96a0-4b30-8e42-cfcdc2272f00
URL:https://touren-termine.adfc.de/radveranstaltung/158189-montag-morgen-t
 our
END:VEVENT
END:VCALENDAR
