BEGIN:VCALENDAR
PRODID:-//github.com/rianjs/ical.net//NONSGML ical.net 4.0//EN
VERSION:2.0
BEGIN:VEVENT
DESCRIPTION:Kinder auf's Rad! Vom Bahnhof Oranienburg gemeinsam nach Lehni
 tz\, fröhlich\, langsam und laut - auf heute autofreien Srassen mit Musik
 \, guter Laune und Spaß auf 2 oder 3 Rädern\nhttps://touren-termine.adfc.
 de/radveranstaltung/163780-kidical-mass-kinder-und-familienkorso
DTEND:20250510T140000Z
DTSTAMP:20260425T201459Z
DTSTART:20250510T080000Z
LOCATION:Bahnhof\, 16515 Oranienburg
SEQUENCE:0
SUMMARY:Kidical Mass - Kinder- und Familienkorso
UID:81b00bd9-6cfc-4744-b959-285ca1727ba8
URL:https://touren-termine.adfc.de/radveranstaltung/163780-kidical-mass-ki
 nder-und-familienkorso
END:VEVENT
END:VCALENDAR
