BEGIN:VCALENDAR
PRODID:-//github.com/rianjs/ical.net//NONSGML ical.net 4.0//EN
VERSION:2.0
BEGIN:VEVENT
DESCRIPTION:Grünkohl- und Snirtje-Essen\nhttps://touren-termine.adfc.de/ra
 dveranstaltung/145814-grunkohl-und-snirtjeessen
DTEND:20250215T150000Z
DTSTAMP:20260421T100910Z
DTSTART:20250215T113000Z
LOCATION:Amdorfer Straße 101\, "Landgaststätte zur Pünte"\, 26789 Leer
SEQUENCE:0
SUMMARY:Grünkohl- und Snirtje-Essen
UID:0c78a7ce-e001-4699-8662-c12bc5548998
URL:https://touren-termine.adfc.de/radveranstaltung/145814-grunkohl-und-sn
 irtjeessen
END:VEVENT
END:VCALENDAR
