BEGIN:VCALENDAR
PRODID:-//github.com/rianjs/ical.net//NONSGML ical.net 4.0//EN
VERSION:2.0
BEGIN:VEVENT
DESCRIPTION:ca. 60 km\, 16-18 km/h\, Start: Marktplatz Rheydt\, 14.06.2026
 \, 11:00 Uhr. Es stehen wieder sechs Eisdielen auf dem Programm.\nhttps:/
 /touren-termine.adfc.de/radveranstaltung/190908-eis-geht-immer-v-in-und-s
 udostlich-von-mg
DTEND:20260614T160000Z
DTSTAMP:20260424T200901Z
DTSTART:20260614T090000Z
LOCATION:Rheydter Marktplatz\, 41236 Mönchengladbach
SEQUENCE:0
SUMMARY:Eis geht immer! V - In und südöstlich von MG
UID:ae7ef2ad-aaab-4815-b8e0-321bbd6cbfa7
URL:https://touren-termine.adfc.de/radveranstaltung/190908-eis-geht-immer-
 v-in-und-sudostlich-von-mg
END:VEVENT
END:VCALENDAR
