BEGIN:VCALENDAR
PRODID:-//github.com/rianjs/ical.net//NONSGML ical.net 4.0//EN
VERSION:2.0
BEGIN:VEVENT
DESCRIPTION:Die Tour geht über gut 24 km durch Wülfrath auf die Kölnische 
 Landstraße\, weiter nach Düssel und Aprath vorbei an der Düsselquelle auf
  den Panoramaradweg und zurück zum Ausgangspunkt - Zeittunnel\nhttps://to
 uren-termine.adfc.de/radveranstaltung/189896-sommertouren-2026-wir-fahren
 -durch-wulfrath
DTEND:20260614T120000Z
DTSTAMP:20260423T111157Z
DTSTART:20260614T090000Z
LOCATION:Zeittunnel - Hammerstein 5\, 42489 Wülfrath
SEQUENCE:0
SUMMARY:Sommertouren 2026 - Wir fahren durch Wülfrath
UID:45e94c9d-bdfd-4290-bbaa-e4f887e4696c
URL:https://touren-termine.adfc.de/radveranstaltung/189896-sommertouren-20
 26-wir-fahren-durch-wulfrath
END:VEVENT
END:VCALENDAR
