BEGIN:VCALENDAR
PRODID:-//github.com/rianjs/ical.net//NONSGML ical.net 4.0//EN
VERSION:2.0
BEGIN:VEVENT
DESCRIPTION:Monatliches Arbeitstreffen der Radverkehrsgruppe des ADFC Köln
  am letzten Mittwoch des Monats\nhttps://touren-termine.adfc.de/radverans
 taltung/198886-radverkehrsgruppe-adfc-koln
DTEND:20260429T183000Z
DTSTAMP:20260423T075939Z
DTSTART:20260429T170000Z
LOCATION:ADFC Köln\, Mauritiussteinweg 11\, 50676 Köln
SEQUENCE:0
SUMMARY:Radverkehrsgruppe ADFC Köln
UID:b1550a88-9f71-49c6-a87b-78f69af25c76
URL:https://touren-termine.adfc.de/radveranstaltung/198886-radverkehrsgrup
 pe-adfc-koln
END:VEVENT
END:VCALENDAR
