BEGIN:VCALENDAR
PRODID:-//github.com/rianjs/ical.net//NONSGML ical.net 4.0//EN
VERSION:2.0
BEGIN:VEVENT
DESCRIPTION:Mit dem MTB ab Oppenau auf die Hornisgrinde und Abfahrt nach O
 berkirch\nhttps://touren-termine.adfc.de/radveranstaltung/149737-auf-die-
 hornisgrinde
DTEND:20250720T150000Z
DTSTAMP:20260422T231640Z
DTSTART:20250720T063000Z
LOCATION:Bahnhof\, 77728 Oppenau
SEQUENCE:0
SUMMARY:Auf die Hornisgrinde
UID:2883503e-0e21-41d7-a7f2-9993c74e57e6
URL:https://touren-termine.adfc.de/radveranstaltung/149737-auf-die-hornisg
 rinde
END:VEVENT
END:VCALENDAR
