BEGIN:VCALENDAR
PRODID:-//github.com/rianjs/ical.net//NONSGML ical.net 4.0//EN
VERSION:2.0
BEGIN:VEVENT
DESCRIPTION:Empfehlung des ＡＤＦＣ Langenhagen: GROßE Aktion im & am CCL Lang
 enhagen\nhttps://touren-termine.adfc.de/radveranstaltung/175912-ccl-sport
 -und-gesundheitstage
DTEND:20260314T170000Z
DTSTAMP:20260424T173129Z
DTSTART:20260312T090000Z
LOCATION:CCL: Marktplatz\, 30853 Langenhagen
SEQUENCE:0
SUMMARY:CCL: Sport- und Gesundheitstage
UID:b6a48158-7469-4f01-99be-1359d3fb0c90
URL:https://touren-termine.adfc.de/radveranstaltung/175912-ccl-sport-und-g
 esundheitstage
END:VEVENT
END:VCALENDAR
