BEGIN:VCALENDAR
PRODID:-//github.com/rianjs/ical.net//NONSGML ical.net 4.0//EN
VERSION:2.0
BEGIN:VEVENT
DESCRIPTION:Der ADFC Berlin kommt am Samstag\, den 14. September 2024\, vo
 n 12.00 - 18.00 Uhr mit dem Fahrrad-Check zum Moabiter Kiezfest!\nhttps:/
 /touren-termine.adfc.de/radveranstaltung/138782-adfcfahrradcheck-moabit
DTEND:20240914T160000Z
DTSTAMP:20260421T233125Z
DTSTART:20240914T100000Z
LOCATION:Jonasstraße 1\, 10551 Berlin
SEQUENCE:0
SUMMARY:ADFC-Fahrrad-Check Moabit
UID:14d592d7-7610-4875-9aa4-642e8b1766eb
URL:https://touren-termine.adfc.de/radveranstaltung/138782-adfcfahrradchec
 k-moabit
END:VEVENT
END:VCALENDAR
