BEGIN:VCALENDAR
PRODID:-//github.com/rianjs/ical.net//NONSGML ical.net 4.0//EN
VERSION:2.0
BEGIN:VEVENT
DESCRIPTION:Lassen Sie Ihr Fahrrad codieren.\nZur Codierung bringen Sie bi
 tte mit: Fahrrad\, Kaufbeleg\, Personalausweis\, gegebenenfalls die Schlü
 ssel für Akku und Packtasche.\nhttps://touren-termine.adfc.de/radveransta
 ltung/156372-codierung-in-loxstedt
DTEND:20250612T110000Z
DTSTAMP:20260421T022207Z
DTSTART:20250612T060000Z
LOCATION:Wochenmarkt\, Von-Marschalk-Straße 2\, 27612 Loxstedt
SEQUENCE:0
SUMMARY:Codierung in Loxstedt
UID:682be28e-4616-4989-b845-cbca084cce6d
URL:https://touren-termine.adfc.de/radveranstaltung/156372-codierung-in-lo
 xstedt
END:VEVENT
END:VCALENDAR
