BEGIN:VCALENDAR
PRODID:-//github.com/rianjs/ical.net//NONSGML ical.net 4.0//EN
VERSION:2.0
BEGIN:VEVENT
DESCRIPTION:Frühstück bei Mariandl: Seit Jahren ein Klassiker unter unsere
 n Touren\nhttps://touren-termine.adfc.de/radveranstaltung/161200-fruhstuc
 k-bei-mariandl
DTEND:20250530T130000Z
DTSTAMP:20260421T100752Z
DTSTART:20250530T070000Z
LOCATION:Bike & Ride Fahrradparkhaus\, 85221 Dachau
SEQUENCE:0
SUMMARY:Frühstück bei Mariandl
UID:d649030b-d5a9-406c-a35c-489ad37337e1
URL:https://touren-termine.adfc.de/radveranstaltung/161200-fruhstuck-bei-m
 ariandl
END:VEVENT
END:VCALENDAR
