BEGIN:VCALENDAR
PRODID:-//github.com/rianjs/ical.net//NONSGML ical.net 4.0//EN
VERSION:2.0
BEGIN:VEVENT
DESCRIPTION:Radtour zur "Büschings-Mühle" inPetershagen. Wir radeln über R
 usbend\, Lahde zur Mühle in Petershagen. Der Rückweg führt uns über Jösse
 n\, Iserheide und Wiedensahl zurück nach Stadthagen.\nhttps://touren-term
 ine.adfc.de/radveranstaltung/171749-radtour-anl-tag-des-offenen-denkmals
DTEND:20250914T150000Z
DTSTAMP:20260420T215650Z
DTSTART:20250914T080000Z
LOCATION:Marktplatz \,Marktbrunnen\, 31655 Stadthagen
SEQUENCE:0
SUMMARY:Radtour anl. Tag des offenen Denkmals
UID:bf81c474-66d5-479c-ab1c-df7bf4a3a547
URL:https://touren-termine.adfc.de/radveranstaltung/171749-radtour-anl-tag
 -des-offenen-denkmals
END:VEVENT
END:VCALENDAR
