BEGIN:VCALENDAR
PRODID:-//github.com/rianjs/ical.net//NONSGML ical.net 4.0//EN
VERSION:2.0
BEGIN:VEVENT
DESCRIPTION:Über Hilden\, durch die Ohligser Heide dem Lochbach folgend. Ü
 ber die Nebenstraßen von Solingen geht es dann weiter in den Naturpark Be
 rgisches Land an Remscheid vorbei zur Ronsdorfer Talsperre.\nhttps://tour
 en-termine.adfc.de/radveranstaltung/185111-zur-ronsdorfer-talsperre
DTEND:20260711T170000Z
DTSTAMP:20260421T203035Z
DTSTART:20260711T070000Z
LOCATION:Rathaus\, Am Neumarkt 2 (Alte Heerstrasse\, neben den Ladesäulen 
 an der Parkplatzeinfahrt)\, 41564 Kaarst
SEQUENCE:0
SUMMARY:Zur Ronsdorfer Talsperre
UID:502b0d89-2ad8-4a39-b01e-ad906e692397
URL:https://touren-termine.adfc.de/radveranstaltung/185111-zur-ronsdorfer-
 talsperre
END:VEVENT
END:VCALENDAR
