BEGIN:VCALENDAR
PRODID:-//github.com/rianjs/ical.net//NONSGML ical.net 4.0//EN
VERSION:2.0
BEGIN:VEVENT
DESCRIPTION:Unsere Radtour führt uns durch Braunschweig und die umliegende
  Region.\nWir nutzen dabei die städtischen Radwege und verbinden diese mi
 t idyllischen Feld- und Waldwegen\nhttps://touren-termine.adfc.de/radvera
 nstaltung/195741-sommerabendtour
DTEND:20260506T183000Z
DTSTAMP:20260420T082815Z
DTSTART:20260506T160000Z
LOCATION:Löwenwall\, 38100 Braunschweig
SEQUENCE:0
SUMMARY:Sommerabendtour
UID:5173eb83-1c21-4767-9300-d9a3054be2da
URL:https://touren-termine.adfc.de/radveranstaltung/195741-sommerabendtour
END:VEVENT
END:VCALENDAR
