BEGIN:VCALENDAR
PRODID:-//github.com/rianjs/ical.net//NONSGML ical.net 4.0//EN
VERSION:2.0
BEGIN:VEVENT
DESCRIPTION:Jeder ( ideal auch für Einsteiger)\, der ein verkehrssicheres 
 Fahrrad besitz und sich auf dem Fahrrad wohl fühlt\, kann gerne teilnehme
 n\, Dauer ca. 3 Stunden\; Strecke ca. 30 - 35 km.\nhttps://touren-termine
 .adfc.de/radveranstaltung/144284-feierabendtour-rinteln
DTEND:20250603T190000Z
DTSTAMP:20260420T210200Z
DTSTART:20250603T160000Z
LOCATION:Nachtwächter \, Marktplatz 6\, 31737 Rinteln
SEQUENCE:0
SUMMARY:Feierabendtour Rinteln
UID:57ab9d1f-f1b7-422a-b02d-f819530db9ca
URL:https://touren-termine.adfc.de/radveranstaltung/144284-feierabendtour-
 rinteln
END:VEVENT
END:VCALENDAR
