BEGIN:VCALENDAR
PRODID:-//github.com/rianjs/ical.net//NONSGML ical.net 4.0//EN
VERSION:2.0
BEGIN:VEVENT
DESCRIPTION:Zum Tagesausklang radeln wir für zwei bis drei Stunden einschl
 ießlich Einkehr in die nähere Umgebung von Oranienburg\, als Ziel ist Rah
 mer See geplant.\nhttps://touren-termine.adfc.de/radveranstaltung/169764-
 oranienburger-feierabendrundtour
DTEND:20250814T190000Z
DTSTAMP:20260425T200804Z
DTSTART:20250814T160000Z
LOCATION:Bahnhof\, 16515 Oranienburg
SEQUENCE:0
SUMMARY:Oranienburger Feierabend-Rundtour
UID:7e5dd4b0-8ac5-4f1d-a662-67ffdd68ae16
URL:https://touren-termine.adfc.de/radveranstaltung/169764-oranienburger-f
 eierabendrundtour
END:VEVENT
END:VCALENDAR
